BEGIN:VCALENDAR
VERSION:2.0
PRODID:-//Squarespace Inc/Squarespace 6//v6//EN
BEGIN:VEVENT
UID:594fe61ec534a573ac199561@squarespace.com
DTSTAMP:20170929T143509Z
DTSTART:20171201T193000Z
DTEND:20171201T223000Z
SUMMARY:Bedside Stories at An Taibhdhearc Theatre
GEO:53.27203;-9.052656
LOCATION:An Taibhdhearc\, Middle Street\, Galway\, County Galway\, Ireland
END:VEVENT
END:VCALENDAR
